BEGIN:VCALENDAR
VERSION:2.0
PRODID:-//EASFV - ECPv6.15.20//NONSGML v1.0//EN
CALSCALE:GREGORIAN
METHOD:PUBLISH
X-WR-CALNAME:EASFV
X-ORIGINAL-URL:https://easfv.com
X-WR-CALDESC:Events for EASFV
REFRESH-INTERVAL;VALUE=DURATION:PT1H
X-Robots-Tag:noindex
X-PUBLISHED-TTL:PT1H
BEGIN:VTIMEZONE
TZID:UTC
BEGIN:STANDARD
TZOFFSETFROM:+0000
TZOFFSETTO:+0000
TZNAME:UTC
DTSTART:20200101T000000
END:STANDARD
END:VTIMEZONE
BEGIN:VEVENT
DTSTART;TZID=UTC:20210714T073000
DTEND;TZID=UTC:20210714T073000
DTSTAMP:20260421T225349
CREATED:20210710T074542Z
LAST-MODIFIED:20210710T074542Z
UID:1205-1626247800-1626247800@easfv.com
SUMMARY:7/14 - Rick Marks
DESCRIPTION:
URL:https://easfv.com/event/7-14-rick-marks/
END:VEVENT
BEGIN:VEVENT
DTSTART;TZID=UTC:20210721T073000
DTEND;TZID=UTC:20210721T080000
DTSTAMP:20260421T225349
CREATED:20210710T074558Z
LAST-MODIFIED:20210710T074558Z
UID:1206-1626852600-1626854400@easfv.com
SUMMARY:7/21 - Jave Tripp...and a Business Meeting
DESCRIPTION:
URL:https://easfv.com/event/7-21-jave-tripp-and-a-business-meeting/
END:VEVENT
END:VCALENDAR