BEGIN:VCALENDAR
VERSION:2.0
PRODID:-//EASFV - ECPv6.15.20//NONSGML v1.0//EN
CALSCALE:GREGORIAN
METHOD:PUBLISH
X-WR-CALNAME:EASFV
X-ORIGINAL-URL:https://easfv.com
X-WR-CALDESC:Events for EASFV
REFRESH-INTERVAL;VALUE=DURATION:PT1H
X-Robots-Tag:noindex
X-PUBLISHED-TTL:PT1H
BEGIN:VTIMEZONE
TZID:UTC
BEGIN:STANDARD
TZOFFSETFROM:+0000
TZOFFSETTO:+0000
TZNAME:UTC
DTSTART:20200101T000000
END:STANDARD
END:VTIMEZONE
BEGIN:VEVENT
DTSTART;TZID=UTC:20211201T080000
DTEND;TZID=UTC:20211201T170000
DTSTAMP:20260421T180221
CREATED:20210710T075058Z
LAST-MODIFIED:20210710T075058Z
UID:1220-1638345600-1638378000@easfv.com
SUMMARY:12/1 - Julie Specter
DESCRIPTION:
URL:https://easfv.com/event/12-1-julie-specter/
END:VEVENT
END:VCALENDAR