BEGIN:VCALENDAR
VERSION:2.0
PRODID:-//EASFV - ECPv6.15.20//NONSGML v1.0//EN
CALSCALE:GREGORIAN
METHOD:PUBLISH
X-WR-CALNAME:EASFV
X-ORIGINAL-URL:https://easfv.com
X-WR-CALDESC:Events for EASFV
REFRESH-INTERVAL;VALUE=DURATION:PT1H
X-Robots-Tag:noindex
X-PUBLISHED-TTL:PT1H
BEGIN:VTIMEZONE
TZID:UTC
BEGIN:STANDARD
TZOFFSETFROM:+0000
TZOFFSETTO:+0000
TZNAME:UTC
DTSTART:20200101T000000
END:STANDARD
END:VTIMEZONE
BEGIN:VEVENT
DTSTART;TZID=UTC:20211110T080000
DTEND;TZID=UTC:20211110T170000
DTSTAMP:20260421T191550
CREATED:20210710T075114Z
LAST-MODIFIED:20210710T075114Z
UID:1218-1636531200-1636563600@easfv.com
SUMMARY:11/10 - Ian Bridge
DESCRIPTION:
URL:https://easfv.com/event/11-10-ian-bridge/
END:VEVENT
END:VCALENDAR