BEGIN:VCALENDAR
VERSION:2.0
PRODID:-//EASFV - ECPv6.15.20//NONSGML v1.0//EN
CALSCALE:GREGORIAN
METHOD:PUBLISH
X-ORIGINAL-URL:https://easfv.com
X-WR-CALDESC:Events for EASFV
REFRESH-INTERVAL;VALUE=DURATION:PT1H
X-Robots-Tag:noindex
X-PUBLISHED-TTL:PT1H
BEGIN:VTIMEZONE
TZID:UTC
BEGIN:STANDARD
TZOFFSETFROM:+0000
TZOFFSETTO:+0000
TZNAME:UTC
DTSTART:20200101T000000
END:STANDARD
END:VTIMEZONE
BEGIN:VEVENT
DTSTART;TZID=UTC:20210915T073000
DTEND;TZID=UTC:20210915T083000
DTSTAMP:20260421T225637
CREATED:20210710T074742Z
LAST-MODIFIED:20210710T074742Z
UID:1213-1631691000-1631694600@easfv.com
SUMMARY:9/15 - Business Meeting
DESCRIPTION:
URL:https://easfv.com/event/9-15-business-meeting/
END:VEVENT
END:VCALENDAR